BEGIN:VCALENDAR
VERSION:2.0
PRODID:spatie/icalendar-generator
DESCRIPTION:Events from Llanymynech Village Hall
X-WR-CALDESC:Events from Llanymynech Village Hall
REFRESH-INTERVAL;VALUE=DURATION:PT1440M
X-PUBLISHED-TTL:PT1440M
BEGIN:VTIMEZONE
TZID:Etc/GMT+0
BEGIN:STANDARD
DTSTART:20250606T193000Z
TZOFFSETFROM:+0000
TZOFFSETTO:+0000
END:STANDARD
END:VTIMEZONE
BEGIN:VTIMEZONE
TZID:UTC
BEGIN:STANDARD
DTSTART:20250724T105701Z
TZOFFSETFROM:+0000
TZOFFSETTO:+0000
END:STANDARD
END:VTIMEZONE
BEGIN:VEVENT
UID:3383-856
DTSTAMP:20260420T105701Z
SUMMARY:Tennis Club AGM
LOCATION:
ORGANIZER;CN=Bek Owen:MAILTO:llanymynech@hotmail.co.uk
DTSTART;TZID=Etc/GMT+0:20260303T193000
DTEND;TZID=Etc/GMT+0:20260303T213000
X-ALT-DESC;FMTTYPE=TEXT/HTML:
CATEGORIES:DEFRA
URL;VALUE=URI:https://llanymynechvillagehall.org.uk/calendar/?mc_id=3383&amp;#0
 38;vcal=3383
METHOD:PUBLISH
END:VEVENT
END:VCALENDAR