BEGIN:VCALENDAR
VERSION:2.0
PRODID:spatie/icalendar-generator
DESCRIPTION:Events from Llanymynech Village Hall
X-WR-CALDESC:Events from Llanymynech Village Hall
REFRESH-INTERVAL;VALUE=DURATION:PT1440M
X-PUBLISHED-TTL:PT1440M
BEGIN:VTIMEZONE
TZID:Etc/GMT+0
BEGIN:STANDARD
DTSTART:20250613T103000Z
TZOFFSETFROM:+0000
TZOFFSETTO:+0000
END:STANDARD
END:VTIMEZONE
BEGIN:VTIMEZONE
TZID:UTC
BEGIN:STANDARD
DTSTART:20250724T105346Z
TZOFFSETFROM:+0000
TZOFFSETTO:+0000
END:STANDARD
END:VTIMEZONE
BEGIN:VEVENT
UID:3423-872
DTSTAMP:20260420T105346Z
SUMMARY:Indian Woodblock Printing Taster Experience
LOCATION:
ORGANIZER;CN=clare:MAILTO:pooley247@hotmail.co.uk
DTSTART;TZID=Etc/GMT+0:20260310T103000
DTEND;TZID=Etc/GMT+0:20260310T113000
X-ALT-DESC;FMTTYPE=TEXT/HTML:A relaxed one-hour introduction to traditional
  Indian woodblock printing. Learn the foundations of this heritage craft u
 sing hand-carved blocks and fabric paint\, with guided practice on sample 
 fabrics to build confidence and technique. Ideal for beginners. All materi
 als provided. Please book via www.theprintedblock.co.uk or through the Eve
 ntbrite link: https://bit.ly/4kHhE9L &amp;nbsp\;
CATEGORIES:DEFRA
URL;VALUE=URI:https://llanymynechvillagehall.org.uk/calendar/?mc_id=3423&amp;#0
 38;vcal=3423
METHOD:PUBLISH
END:VEVENT
END:VCALENDAR