BEGIN:VCALENDAR
VERSION:2.0
PRODID:spatie/icalendar-generator
DESCRIPTION:Events from Llanymynech Village Hall
X-WR-CALDESC:Events from Llanymynech Village Hall
REFRESH-INTERVAL;VALUE=DURATION:PT1440M
X-PUBLISHED-TTL:PT1440M
BEGIN:VTIMEZONE
TZID:Etc/GMT+0
BEGIN:STANDARD
DTSTART:20250529T190000Z
TZOFFSETFROM:+0000
TZOFFSETTO:+0000
END:STANDARD
END:VTIMEZONE
BEGIN:VTIMEZONE
TZID:UTC
BEGIN:STANDARD
DTSTART:20250724T105517Z
TZOFFSETFROM:+0000
TZOFFSETTO:+0000
END:STANDARD
END:VTIMEZONE
BEGIN:VEVENT
UID:3425-874
DTSTAMP:20260420T105517Z
SUMMARY:Stage Five Theatre
LOCATION:
ORGANIZER;CN=Bek Owen:MAILTO:llanymynech@hotmail.co.uk
DTSTART;TZID=Etc/GMT+0:20260223T190000
DTEND;TZID=Etc/GMT+0:20260223T213000
X-ALT-DESC;FMTTYPE=TEXT/HTML:
CATEGORIES:Tal Humphreys
URL;VALUE=URI:https://llanymynechvillagehall.org.uk/calendar/?mc_id=3425&amp;#0
 38;vcal=3425
METHOD:PUBLISH
END:VEVENT
END:VCALENDAR